BEGIN:VCALENDAR
VERSION:2.0
PRODID:-//Handball Club Dukla Praha - ECPv6.6.1//NONSGML v1.0//EN
CALSCALE:GREGORIAN
METHOD:PUBLISH
X-WR-CALNAME:Handball Club Dukla Praha
X-ORIGINAL-URL:https://hcduklapraha.cz
X-WR-CALDESC:Akce na Handball Club Dukla Praha
REFRESH-INTERVAL;VALUE=DURATION:PT1H
X-Robots-Tag:noindex
X-PUBLISHED-TTL:PT1H
BEGIN:VTIMEZONE
TZID:Europe/Prague
BEGIN:DAYLIGHT
TZOFFSETFROM:+0100
TZOFFSETTO:+0200
TZNAME:CEST
DTSTART:20240331T010000
END:DAYLIGHT
BEGIN:STANDARD
TZOFFSETFROM:+0200
TZOFFSETTO:+0100
TZNAME:CET
DTSTART:20241027T010000
END:STANDARD
END:VTIMEZONE
BEGIN:VEVENT
DTSTART;TZID=Europe/Prague:20240217T100000
DTEND;TZID=Europe/Prague:20240217T160000
DTSTAMP:20260423T184335
CREATED:20231214T215513Z
LAST-MODIFIED:20231214T215528Z
UID:1713-1708164000-1708185600@hcduklapraha.cz
SUMMARY:DUKLA PRAHA VS. LOVCI LOVOSICE (DOROSTY)
DESCRIPTION:Přijďte podpořit naše dorostence v domácích utkáních proti Lovosicím. \nMladší dorost “B” vs. Lovci Lovosice “B” – 10:00\nMladší dorost “A” vs. Lovci Lovosice – 12:00\nStarší dorost vs. Lovci Lovosice – 14:00
URL:https://hcduklapraha.cz/zapasy/dukla-praha-vs-lovci-lovosice-dorosty/
LOCATION:Hala Ruzyně\, Pilotů 217\, Praha
END:VEVENT
BEGIN:VEVENT
DTSTART;TZID=Europe/Prague:20240217T160000
DTEND;TZID=Europe/Prague:20240217T160000
DTSTAMP:20260423T184335
CREATED:20231214T210122Z
LAST-MODIFIED:20231214T210156Z
UID:1687-1708185600-1708185600@hcduklapraha.cz
SUMMARY:DUKLA PRAHA VS. KH VSETÍN (JUNIORKA)
DESCRIPTION:Přijďte podpořit juniorku v domácím utkání proti KH BEECH Vsetín.
URL:https://hcduklapraha.cz/zapasy/dukla-praha-vs-kh-vsetin-juniorka/
LOCATION:Hala Ruzyně\, Pilotů 217\, Praha
END:VEVENT
END:VCALENDAR