BEGIN:VCALENDAR
VERSION:2.0
PRODID:-//Handball Club Dukla Praha - ECPv6.6.1//NONSGML v1.0//EN
CALSCALE:GREGORIAN
METHOD:PUBLISH
X-ORIGINAL-URL:https://hcduklapraha.cz
X-WR-CALDESC:Akce na Handball Club Dukla Praha
REFRESH-INTERVAL;VALUE=DURATION:PT1H
X-Robots-Tag:noindex
X-PUBLISHED-TTL:PT1H
BEGIN:VTIMEZONE
TZID:Europe/Prague
BEGIN:DAYLIGHT
TZOFFSETFROM:+0100
TZOFFSETTO:+0200
TZNAME:CEST
DTSTART:20240331T010000
END:DAYLIGHT
BEGIN:STANDARD
TZOFFSETFROM:+0200
TZOFFSETTO:+0100
TZNAME:CET
DTSTART:20241027T010000
END:STANDARD
END:VTIMEZONE
BEGIN:VEVENT
DTSTART;TZID=Europe/Prague:20240224T123000
DTEND;TZID=Europe/Prague:20240224T163000
DTSTAMP:20260423T171658
CREATED:20231214T220136Z
LAST-MODIFIED:20231214T220149Z
UID:1715-1708777800-1708792200@hcduklapraha.cz
SUMMARY:NOVÉ VESELÍ VS. DUKLA PRAHA (DOROSTY)
DESCRIPTION:Venkovní utkání dorosteneckých složek. \nNové Veselí – Mladší dorost “A” – 12:30\nNové Veselí – Starší dorost – 14:3 \n25.02. Chodov – Mladší dorost “B” – 15:00 \n 
URL:https://hcduklapraha.cz/zapasy/nove-veseli-vs-dukla-praha-dorosty/
LOCATION:Hala Nové Veselí\, Hala Nové Veselí
END:VEVENT
BEGIN:VEVENT
DTSTART;TZID=Europe/Prague:20240224T180000
DTEND;TZID=Europe/Prague:20240224T200000
DTSTAMP:20260423T171658
CREATED:20231214T104756Z
LAST-MODIFIED:20240124T104512Z
UID:1660-1708797600-1708804800@hcduklapraha.cz
SUMMARY:TALENT PLZEŇ VS. DUKLA PRAHA (A-TÝM)
DESCRIPTION:Venkovní utkání na palubovce Talentu Plzeň.
URL:https://hcduklapraha.cz/zapasy/tym-plzenskeho-kraje-vs-dukla-praha-a-tym/
LOCATION:TJ Lokomotiva Plzen\, Úslavská 75
END:VEVENT
END:VCALENDAR