BEGIN:VCALENDAR
VERSION:2.0
PRODID:-//Handball Club Dukla Praha - ECPv6.6.1//NONSGML v1.0//EN
CALSCALE:GREGORIAN
METHOD:PUBLISH
X-ORIGINAL-URL:https://hcduklapraha.cz
X-WR-CALDESC:Akce na Handball Club Dukla Praha
REFRESH-INTERVAL;VALUE=DURATION:PT1H
X-Robots-Tag:noindex
X-PUBLISHED-TTL:PT1H
BEGIN:VTIMEZONE
TZID:Europe/Prague
BEGIN:DAYLIGHT
TZOFFSETFROM:+0100
TZOFFSETTO:+0200
TZNAME:CEST
DTSTART:20240331T010000
END:DAYLIGHT
BEGIN:STANDARD
TZOFFSETFROM:+0200
TZOFFSETTO:+0100
TZNAME:CET
DTSTART:20241027T010000
END:STANDARD
END:VTIMEZONE
BEGIN:VEVENT
DTSTART;TZID=Europe/Prague:20240406T170000
DTEND;TZID=Europe/Prague:20240406T170000
DTSTAMP:20260423T125836
CREATED:20231214T211442Z
LAST-MODIFIED:20231214T211455Z
UID:1700-1712422800-1712422800@hcduklapraha.cz
SUMMARY:TATRAN LITOVEL VS. DUKLA PRAHA (JUNIORKA)
DESCRIPTION:Venkovní utkání juniorky na půdě Litovle.
URL:https://hcduklapraha.cz/zapasy/tatran-litovel-vs-dukla-praha-juniorka/
LOCATION:hala Litovel\, Hala Litovel
END:VEVENT
END:VCALENDAR