BEGIN:VCALENDAR
VERSION:2.0
PRODID:-//Handball Club Dukla Praha - ECPv6.6.1//NONSGML v1.0//EN
CALSCALE:GREGORIAN
METHOD:PUBLISH
X-ORIGINAL-URL:https://hcduklapraha.cz
X-WR-CALDESC:Akce na Handball Club Dukla Praha
REFRESH-INTERVAL;VALUE=DURATION:PT1H
X-Robots-Tag:noindex
X-PUBLISHED-TTL:PT1H
BEGIN:VTIMEZONE
TZID:Europe/Prague
BEGIN:DAYLIGHT
TZOFFSETFROM:+0100
TZOFFSETTO:+0200
TZNAME:CEST
DTSTART:20240331T010000
END:DAYLIGHT
BEGIN:STANDARD
TZOFFSETFROM:+0200
TZOFFSETTO:+0100
TZNAME:CET
DTSTART:20241027T010000
END:STANDARD
END:VTIMEZONE
BEGIN:VEVENT
DTSTART;TZID=Europe/Prague:20240428T110000
DTEND;TZID=Europe/Prague:20240428T150000
DTSTAMP:20260423T125856
CREATED:20231214T223223Z
LAST-MODIFIED:20231214T223301Z
UID:1731-1714302000-1714316400@hcduklapraha.cz
SUMMARY:TALENT PLZEŇ VS. DUKLA PRAHA (DOROSTY)
DESCRIPTION:Venkovní utkání dorosteneckých složek \nTalent Plzeň – Mladší dorost “A” – 11:00\nTalent Plzeň – Starší dorost – 13:00 \n27.04. Kolín – Mladší dorost “B” – 16:30 \n 
URL:https://hcduklapraha.cz/zapasy/talent-plzen-vs-dukla-praha-dorosty/
LOCATION:TJ Lokomotiva Plzen\, Úslavská 75
END:VEVENT
END:VCALENDAR