BEGIN:VCALENDAR
VERSION:2.0
PRODID:-//Handball Club Dukla Praha - ECPv6.6.1//NONSGML v1.0//EN
CALSCALE:GREGORIAN
METHOD:PUBLISH
X-ORIGINAL-URL:https://hcduklapraha.cz
X-WR-CALDESC:Akce na Handball Club Dukla Praha
REFRESH-INTERVAL;VALUE=DURATION:PT1H
X-Robots-Tag:noindex
X-PUBLISHED-TTL:PT1H
BEGIN:VTIMEZONE
TZID:Europe/Prague
BEGIN:DAYLIGHT
TZOFFSETFROM:+0100
TZOFFSETTO:+0200
TZNAME:CEST
DTSTART:20240331T010000
END:DAYLIGHT
BEGIN:STANDARD
TZOFFSETFROM:+0200
TZOFFSETTO:+0100
TZNAME:CET
DTSTART:20241027T010000
END:STANDARD
END:VTIMEZONE
BEGIN:VEVENT
DTSTART;TZID=Europe/Prague:20240302T100000
DTEND;TZID=Europe/Prague:20240302T160000
DTSTAMP:20260423T130012
CREATED:20231214T220528Z
LAST-MODIFIED:20231214T220536Z
UID:1718-1709373600-1709395200@hcduklapraha.cz
SUMMARY:DUKLA PRAHA VS. FRÝDEK-MÍSTEK (DOROSTY)
DESCRIPTION:Přjďte podpořit dorostence v domácích utkáních. \nMladší dorost “A” – Frýdek-Místek – 12:00\nStarší dorost – Frýdek-Místek – 14:00 \nMladší dorost “B” – Děčín – 10:00
URL:https://hcduklapraha.cz/zapasy/dukla-praha-vs-frydek-mistek-dorosty/
LOCATION:Hala Ruzyně\, Pilotů 217\, Praha
END:VEVENT
BEGIN:VEVENT
DTSTART;TZID=Europe/Prague:20240302T160000
DTEND;TZID=Europe/Prague:20240302T160000
DTSTAMP:20260423T130012
CREATED:20231214T210635Z
LAST-MODIFIED:20231214T210648Z
UID:1693-1709395200-1709395200@hcduklapraha.cz
SUMMARY:DUKLA PRAHA VS. SOKOL ŠŤÁHLAVY (JUNIORKA)
DESCRIPTION:Přijďte podpořit juniorku v domácím utkání proti Sokolu Šťáhlavy.
URL:https://hcduklapraha.cz/zapasy/dukla-praha-vs-sokol-stahlavy-juniorka/
LOCATION:Hala Ruzyně\, Pilotů 217\, Praha
END:VEVENT
BEGIN:VEVENT
DTSTART;TZID=Europe/Prague:20240302T180000
DTEND;TZID=Europe/Prague:20240302T180000
DTSTAMP:20260423T130012
CREATED:20231214T191620Z
LAST-MODIFIED:20231214T191703Z
UID:1675-1709402400-1709402400@hcduklapraha.cz
SUMMARY:CEMENT HRANICE VS. DUKLA PRAHA (A-TÝM)
DESCRIPTION:Venkovní utkání na palubovce Hranic.
URL:https://hcduklapraha.cz/zapasy/cement-hranice-vs-dukla-praha-a-tym/
LOCATION:Hala Hranice\, Hala Hranice
END:VEVENT
BEGIN:VEVENT
DTSTART;TZID=Europe/Prague:20240309T180000
DTEND;TZID=Europe/Prague:20240309T180000
DTSTAMP:20260423T130012
CREATED:20231214T191909Z
LAST-MODIFIED:20231214T191919Z
UID:1678-1710007200-1710007200@hcduklapraha.cz
SUMMARY:DUKLA PRAHA VS. LOVCI LOVOSICE (A-TÝM)
DESCRIPTION:Přijďte nás podpořit v domácím utkání proti Lovosicím.
URL:https://hcduklapraha.cz/zapasy/dukla-praha-vs-lovci-lovosice-a-tym/
LOCATION:SC Řepy\, Na Chobotě 420/16\, Praha
END:VEVENT
BEGIN:VEVENT
DTSTART;TZID=Europe/Prague:20240310T130000
DTEND;TZID=Europe/Prague:20240310T170000
DTSTAMP:20260423T130012
CREATED:20231214T220919Z
LAST-MODIFIED:20231214T220954Z
UID:1720-1710075600-1710090000@hcduklapraha.cz
SUMMARY:HBC JIČÍN VS. DUKLA PRAHA (DOROSTY)
DESCRIPTION:Venkovní utkání dorosteneckých složek \nHBC Jičín – Mladší dorost “A” – 13:00\nHBC Jičín – Starší dorost – 15:00 \nHázená Mělník – Mladší dorost “B” – 15:00 \n 
URL:https://hcduklapraha.cz/zapasy/hbc-jicin-vs-dukla-praha-dorosty/
LOCATION:hala Jičín\, Hala Jičín
END:VEVENT
BEGIN:VEVENT
DTSTART;TZID=Europe/Prague:20240310T170000
DTEND;TZID=Europe/Prague:20240310T170000
DTSTAMP:20260423T130012
CREATED:20231214T210953Z
LAST-MODIFIED:20231214T211031Z
UID:1695-1710090000-1710090000@hcduklapraha.cz
SUMMARY:JIČÍN "B" - DUKLA PRAHA (JUNIORKA)
DESCRIPTION:Venkovní utkání Juniorky na půdě Jičína.
URL:https://hcduklapraha.cz/zapasy/jicin-b-dukla-praha-juniorka/
LOCATION:hala Jičín\, Hala Jičín
END:VEVENT
BEGIN:VEVENT
DTSTART;TZID=Europe/Prague:20240323T100000
DTEND;TZID=Europe/Prague:20240323T160000
DTSTAMP:20260423T130012
CREATED:20231214T221546Z
LAST-MODIFIED:20231214T221620Z
UID:1722-1711188000-1711209600@hcduklapraha.cz
SUMMARY:DUKLA PRAHA VS. HAOLK (DOROSTY)
DESCRIPTION:Přijďte podpořit dorostence do haly Ruzyně \nMladší dorost “A” – HAOLK – 12:00\nStarší dorost – HAOLK – 14:00 \nMladší dorost “B” – Liberec 10:00 \n 
URL:https://hcduklapraha.cz/zapasy/dukla-praha-vs-haolk-dorosty/
LOCATION:Hala Ruzyně\, Pilotů 217\, Praha
END:VEVENT
BEGIN:VEVENT
DTSTART;TZID=Europe/Prague:20240323T160000
DTEND;TZID=Europe/Prague:20240323T160000
DTSTAMP:20260423T130012
CREATED:20231214T211237Z
LAST-MODIFIED:20231214T211249Z
UID:1698-1711209600-1711209600@hcduklapraha.cz
SUMMARY:DUKLA PRAHA VS. HAOLK (JUNIORKA)
DESCRIPTION:Přijďte podpořit juniorku v domácím utkání proti HAOLKu.
URL:https://hcduklapraha.cz/zapasy/dukla-praha-vs-haolk-juniorka/
LOCATION:Hala Ruzyně\, Pilotů 217\, Praha
END:VEVENT
END:VCALENDAR