BEGIN:VCALENDAR
VERSION:2.0
PRODID:-//Handball Club Dukla Praha - ECPv6.6.1//NONSGML v1.0//EN
CALSCALE:GREGORIAN
METHOD:PUBLISH
X-WR-CALNAME:Handball Club Dukla Praha
X-ORIGINAL-URL:https://hcduklapraha.cz
X-WR-CALDESC:Akce na Handball Club Dukla Praha
REFRESH-INTERVAL;VALUE=DURATION:PT1H
X-Robots-Tag:noindex
X-PUBLISHED-TTL:PT1H
BEGIN:VTIMEZONE
TZID:Europe/Prague
BEGIN:DAYLIGHT
TZOFFSETFROM:+0100
TZOFFSETTO:+0200
TZNAME:CEST
DTSTART:20240331T010000
END:DAYLIGHT
BEGIN:STANDARD
TZOFFSETFROM:+0200
TZOFFSETTO:+0100
TZNAME:CET
DTSTART:20241027T010000
END:STANDARD
END:VTIMEZONE
BEGIN:VEVENT
DTSTART;TZID=Europe/Prague:20240406T170000
DTEND;TZID=Europe/Prague:20240406T170000
DTSTAMP:20260423T114151
CREATED:20231214T211442Z
LAST-MODIFIED:20231214T211455Z
UID:1700-1712422800-1712422800@hcduklapraha.cz
SUMMARY:TATRAN LITOVEL VS. DUKLA PRAHA (JUNIORKA)
DESCRIPTION:Venkovní utkání juniorky na půdě Litovle.
URL:https://hcduklapraha.cz/zapasy/tatran-litovel-vs-dukla-praha-juniorka/
LOCATION:hala Litovel\, Hala Litovel
END:VEVENT
BEGIN:VEVENT
DTSTART;TZID=Europe/Prague:20240407T150000
DTEND;TZID=Europe/Prague:20240407T190000
DTSTAMP:20260423T114151
CREATED:20231214T221956Z
LAST-MODIFIED:20231214T222007Z
UID:1724-1712502000-1712516400@hcduklapraha.cz
SUMMARY:HC ZUBŘÍ VS. DUKLA PRAHA (DOROSTY)
DESCRIPTION:Venkovní utkání dorostenců \nHC Zubří – Mladší dorost “A” – 15:00\nHC Zubří – Starší dorost – 17:00 \n06.04. Mladší dorost “B” – Jablonec – 15:00 \n 
URL:https://hcduklapraha.cz/zapasy/hc-zubri-vs-dukla-praha-dorosty/
LOCATION:Hala Robe Zubří\, Hlavní 492\, Zubří
END:VEVENT
BEGIN:VEVENT
DTSTART;TZID=Europe/Prague:20240413T100000
DTEND;TZID=Europe/Prague:20240413T160000
DTSTAMP:20260423T114151
CREATED:20231214T222425Z
LAST-MODIFIED:20231214T222435Z
UID:1726-1713002400-1713024000@hcduklapraha.cz
SUMMARY:DUKLA PRAHA VS. HC ZLÍN (DOROSTY)
DESCRIPTION:Přijďte podpořit dorostence do haly Ruzyně. \nMladší dorost “A” – Jihočeši – 12:00\nStarší dorost – HC Zlín – 14:00 \nMladší dorost “B” – Náchod – 10:00 \n 
URL:https://hcduklapraha.cz/zapasy/dukla-praha-vs-hc-zlin-dorosty/
LOCATION:Hala Ruzyně\, Pilotů 217\, Praha
END:VEVENT
BEGIN:VEVENT
DTSTART;TZID=Europe/Prague:20240413T160000
DTEND;TZID=Europe/Prague:20240413T160000
DTSTAMP:20260423T114151
CREATED:20231214T211647Z
LAST-MODIFIED:20231214T211655Z
UID:1703-1713024000-1713024000@hcduklapraha.cz
SUMMARY:DUKLA PRAHA VS. HC ZLÍN (JUNIORKA)
DESCRIPTION:Přijďte podpořit juniorku v domácím utkání proti Zlínu.
URL:https://hcduklapraha.cz/zapasy/dukla-praha-vs-hc-zlin-juniorka/
LOCATION:Hala Ruzyně\, Pilotů 217\, Praha
END:VEVENT
BEGIN:VEVENT
DTSTART;TZID=Europe/Prague:20240420T160000
DTEND;TZID=Europe/Prague:20240420T210000
DTSTAMP:20260423T114151
CREATED:20231214T222848Z
LAST-MODIFIED:20231214T222857Z
UID:1728-1713628800-1713646800@hcduklapraha.cz
SUMMARY:VELKÉ MEZIŘÍČÍ VS. DUKLA PRAHA (DOROSTY)
DESCRIPTION:Venkovní utkání dorosteneckých složek \nMost – Mladší dorost “A” – 16:00\nVelké Meziříčí – Starší dorost – 19:00 \n21.04. Jičín – Mladší dorost “B” – 11:00 \n 
URL:https://hcduklapraha.cz/zapasy/velke-mezirici-vs-dukla-praha-dorosty/
LOCATION:hala Velké Meziříčí\, hala Velké Meziříčí
END:VEVENT
BEGIN:VEVENT
DTSTART;TZID=Europe/Prague:20240421T170000
DTEND;TZID=Europe/Prague:20240421T170000
DTSTAMP:20260423T114151
CREATED:20231214T212149Z
LAST-MODIFIED:20231214T212342Z
UID:1705-1713718800-1713718800@hcduklapraha.cz
SUMMARY:TATRAN BOHUNICE VS. DUKLA PRAHA (JUNIORKA)
DESCRIPTION:Venkovní utkání juniorky na půdě Bohunic.
URL:https://hcduklapraha.cz/zapasy/tatran-bohunice-vs-dukla-praha-juniorka/
LOCATION:hala Bohunice\, hala Bohunice
END:VEVENT
BEGIN:VEVENT
DTSTART;TZID=Europe/Prague:20240427T150000
DTEND;TZID=Europe/Prague:20240427T150000
DTSTAMP:20260423T114151
CREATED:20231214T213138Z
LAST-MODIFIED:20231214T213148Z
UID:1708-1714230000-1714230000@hcduklapraha.cz
SUMMARY:SOKOL VRŠOVICE VS. DUKLA PRAHA (JUNIORKA)
DESCRIPTION:Venkovní utkání na půdě pražských Vršovic.
URL:https://hcduklapraha.cz/zapasy/sokol-vrsovice-vs-dukla-praha-juniorka/
LOCATION:hala Vršovice\, hala Vršovice
END:VEVENT
BEGIN:VEVENT
DTSTART;TZID=Europe/Prague:20240428T110000
DTEND;TZID=Europe/Prague:20240428T150000
DTSTAMP:20260423T114151
CREATED:20231214T223223Z
LAST-MODIFIED:20231214T223301Z
UID:1731-1714302000-1714316400@hcduklapraha.cz
SUMMARY:TALENT PLZEŇ VS. DUKLA PRAHA (DOROSTY)
DESCRIPTION:Venkovní utkání dorosteneckých složek \nTalent Plzeň – Mladší dorost “A” – 11:00\nTalent Plzeň – Starší dorost – 13:00 \n27.04. Kolín – Mladší dorost “B” – 16:30 \n 
URL:https://hcduklapraha.cz/zapasy/talent-plzen-vs-dukla-praha-dorosty/
LOCATION:TJ Lokomotiva Plzen\, Úslavská 75
END:VEVENT
END:VCALENDAR