BEGIN:VCALENDAR
VERSION:2.0
PRODID:-//Handball Club Dukla Praha - ECPv6.6.1//NONSGML v1.0//EN
CALSCALE:GREGORIAN
METHOD:PUBLISH
X-WR-CALNAME:Handball Club Dukla Praha
X-ORIGINAL-URL:https://hcduklapraha.cz
X-WR-CALDESC:Akce na Handball Club Dukla Praha
REFRESH-INTERVAL;VALUE=DURATION:PT1H
X-Robots-Tag:noindex
X-PUBLISHED-TTL:PT1H
BEGIN:VTIMEZONE
TZID:Europe/Prague
BEGIN:DAYLIGHT
TZOFFSETFROM:+0100
TZOFFSETTO:+0200
TZNAME:CEST
DTSTART:20240331T010000
END:DAYLIGHT
BEGIN:STANDARD
TZOFFSETFROM:+0200
TZOFFSETTO:+0100
TZNAME:CET
DTSTART:20241027T010000
END:STANDARD
END:VTIMEZONE
BEGIN:VEVENT
DTSTART;TZID=Europe/Prague:20240504T100000
DTEND;TZID=Europe/Prague:20240504T160000
DTSTAMP:20260423T130208
CREATED:20231214T223555Z
LAST-MODIFIED:20231214T223627Z
UID:1733-1714816800-1714838400@hcduklapraha.cz
SUMMARY:DUKLA PRAHA VS. SKKP BRNO (DOROSTY)
DESCRIPTION:Přijďte podpořit dorostence do haly Ruzyně \nMladší dorost “A” – SKKP Brno – 12:00\nStarší dorost – SKKP Brno – 14:00 \nMladší dorost “B” – Mladá Boleslav – 10:00 \n 
URL:https://hcduklapraha.cz/zapasy/dukla-praha-vs-skkp-brno-dorosty/
LOCATION:Hala Ruzyně\, Pilotů 217\, Praha
END:VEVENT
BEGIN:VEVENT
DTSTART;TZID=Europe/Prague:20240504T160000
DTEND;TZID=Europe/Prague:20240504T160000
DTSTAMP:20260423T130208
CREATED:20231214T213829Z
LAST-MODIFIED:20231214T213846Z
UID:1711-1714838400-1714838400@hcduklapraha.cz
SUMMARY:DUKLA PRAHA VS. DVŮR KRÁLOVÉ (JUNIORKA)
DESCRIPTION:Přijďte podpořit juniorku v domácím utkání proti Dvoru Králové.
URL:https://hcduklapraha.cz/zapasy/dukla-praha-vs-dvur-kralove-juniorka/
LOCATION:Hala Ruzyně\, Pilotů 217\, Praha
END:VEVENT
END:VCALENDAR