BEGIN:VCALENDAR
VERSION:2.0
PRODID:-//Handball Club Dukla Praha - ECPv6.6.1//NONSGML v1.0//EN
CALSCALE:GREGORIAN
METHOD:PUBLISH
X-WR-CALNAME:Handball Club Dukla Praha
X-ORIGINAL-URL:https://hcduklapraha.cz
X-WR-CALDESC:Akce na Handball Club Dukla Praha
REFRESH-INTERVAL;VALUE=DURATION:PT1H
X-Robots-Tag:noindex
X-PUBLISHED-TTL:PT1H
BEGIN:VTIMEZONE
TZID:Europe/Prague
BEGIN:DAYLIGHT
TZOFFSETFROM:+0100
TZOFFSETTO:+0200
TZNAME:CEST
DTSTART:20240331T010000
END:DAYLIGHT
BEGIN:STANDARD
TZOFFSETFROM:+0200
TZOFFSETTO:+0100
TZNAME:CET
DTSTART:20241027T010000
END:STANDARD
END:VTIMEZONE
BEGIN:VEVENT
DTSTART;TZID=Europe/Prague:20240211T120000
DTEND;TZID=Europe/Prague:20240211T180000
DTSTAMP:20260420T074147
CREATED:20231214T205801Z
LAST-MODIFIED:20231214T205801Z
UID:1683-1707652800-1707674400@hcduklapraha.cz
SUMMARY:POLANKA VS. DUKLA (JUNIORKA\, DOROSTY)
DESCRIPTION:Venkovní utkání mladšího dorostu\, staršího dorostu i juniorky na půdě Polanky.
URL:https://hcduklapraha.cz/zapasy/polanka-vs-dukla-juniorka-dorosty/
LOCATION:hala Polanka nad Odrou\, Polanka nad Odrou
END:VEVENT
BEGIN:VEVENT
DTSTART;TZID=Europe/Prague:20240211T103000
DTEND;TZID=Europe/Prague:20240211T103000
DTSTAMP:20260420T074147
CREATED:20231214T105146Z
LAST-MODIFIED:20231214T105227Z
UID:1663-1707647400-1707647400@hcduklapraha.cz
SUMMARY:DUKLA PRAHA VS. MALOMĚŘICE (A-TÝM)
DESCRIPTION:Přijďte nás podpořit v domácím utkání proti SHC Maloměřice.
URL:https://hcduklapraha.cz/zapasy/dukla-praha-vs-malomerice-a-tym/
LOCATION:SC Řepy\, Na Chobotě 420/16\, Praha
END:VEVENT
BEGIN:VEVENT
DTSTART;TZID=Europe/Prague:20240203T180000
DTEND;TZID=Europe/Prague:20240203T180000
DTSTAMP:20260420T074147
CREATED:20231214T104211Z
LAST-MODIFIED:20231214T190928Z
UID:1655-1706983200-1706983200@hcduklapraha.cz
SUMMARY:HC ZUBŘÍ VS. DUKLA PRAHA (A-TÝM)
DESCRIPTION:Venkovní utkání na palubovce Hc Zubří.
URL:https://hcduklapraha.cz/zapasy/hc-zubri-vs-dukla-praha-a-tym/
LOCATION:Hala Robe Zubří\, Hlavní 492\, Zubří
END:VEVENT
BEGIN:VEVENT
DTSTART;TZID=Europe/Prague:20240131T180000
DTEND;TZID=Europe/Prague:20240131T180000
DTSTAMP:20260420T074147
CREATED:20231214T105442Z
LAST-MODIFIED:20231214T105455Z
UID:1666-1706724000-1706724000@hcduklapraha.cz
SUMMARY:DUKLA PRAHA VS. HCB KARVINÁ (A-TÝM)
DESCRIPTION:Přijďte nás podpořit v domácím utkání proti HCB Karviná.
URL:https://hcduklapraha.cz/zapasy/dukla-praha-vs-hcb-karvina-a-tym-2/
LOCATION:SC Řepy\, Na Chobotě 420/16\, Praha
END:VEVENT
BEGIN:VEVENT
DTSTART;TZID=Europe/Prague:20240128T144500
DTEND;TZID=Europe/Prague:20240128T144500
DTSTAMP:20260420T074147
CREATED:20231214T103143Z
LAST-MODIFIED:20240110T151147Z
UID:1648-1706453100-1706453100@hcduklapraha.cz
SUMMARY:DUKLA PRAHA VS. FRÝDEK-MÍSTEK (A-TÝM)
DESCRIPTION:Přijďte nás podpořit v domácím utkání proti Frýdku-Místku.
URL:https://hcduklapraha.cz/zapasy/dukla-praha-vs-frydek-mistek/
LOCATION:SC Řepy\, Na Chobotě 420/16\, Praha
CATEGORIES:A-TÝM
END:VEVENT
BEGIN:VEVENT
DTSTART;TZID=Europe/Prague:20240120T083000
DTEND;TZID=Europe/Prague:20240120T180000
DTSTAMP:20260420T074147
CREATED:20231218T105930Z
LAST-MODIFIED:20231218T110238Z
UID:1777-1705739400-1705773600@hcduklapraha.cz
SUMMARY:2. KOLO ŽÁKOVSKÉ LIGY (STARŠÍ ŽÁCI)
DESCRIPTION:Přijďte podpořit starší žáky v žákovské lize do haly – Lokomotiva Vršovice.
URL:https://hcduklapraha.cz/zapasy/2-kolo-zakovske-ligy-starsi-zaci/
LOCATION:Lokomotiva Vršovice\, Sportovní 1380\, Praha
CATEGORIES:A-TÝM
END:VEVENT
END:VCALENDAR